BEGIN:VCALENDAR
VERSION:2.0
BEGIN:VEVENT
URL:https://www.strom.ch/fr/manifestation/journee-romande-de-la-securite
DTSTART:20260916T090000
DTEND:20260916T173000
SUMMARY;charset=iso-8859-1:Journée romande de la sécurité
DESCRIPTION:For details, click here: https://www.strom.ch/fr/manifestation/journee-romande-de-la-securite
LOCATION;charset=iso-8859-1:Petit-Chêne, rue du 34, 1003 Lausanne;
END:VEVENT
END:VCALENDAR