BEGIN:VCALENDAR
VERSION:2.0
BEGIN:VEVENT
URL:https://www.strom.ch/fr/manifestation/aspects-juridiques-de-la-transition-energetique
DTSTART:20260915T090000
DTEND:20260915T123000
SUMMARY;charset=iso-8859-1:Aspects juridiques de la transition énergétique
DESCRIPTION:For details, click here: https://www.strom.ch/fr/manifestation/aspects-juridiques-de-la-transition-energetique
LOCATION;charset=iso-8859-1:Avenue Louis-Ruchonnet 2, 1003 Lausanne;
END:VEVENT
END:VCALENDAR