BEGIN:VCALENDAR
VERSION:2.0
BEGIN:VEVENT
URL:https://www.strom.ch/fr/manifestation/journees-romandes-des-directeursrices-et-cadres-2026
DTSTART:20260924T090000
DTEND:20260925T140000
SUMMARY;charset=iso-8859-1:Journées romandes des directeurs·rices et cadres 2026
DESCRIPTION:For details, click here: https://www.strom.ch/fr/manifestation/journees-romandes-des-directeursrices-et-cadres-2026
LOCATION;charset=iso-8859-1:Avenue Claude Nobs 7, 1820 Montreux;
END:VEVENT
END:VCALENDAR