BEGIN:VCALENDAR
VERSION:2.0
BEGIN:VEVENT
URL:https://www.strom.ch/fr/manifestation/marquage-de-lelectricite
DTSTART:20260430T090000
DTEND:20260430T120000
SUMMARY;charset=iso-8859-1:Marquage de l'électricité
DESCRIPTION:For details, click here: https://www.strom.ch/fr/manifestation/marquage-de-lelectricite
LOCATION;charset=iso-8859-1:Avenue Louis-Ruchonnet 2, 1003 Lausanne;
END:VEVENT
END:VCALENDAR