BEGIN:VCALENDAR
VERSION:2.0
BEGIN:VEVENT
URL:https://www.strom.ch/fr/manifestation/connaissances-de-la-branche-2-politique-regulation-economie
DTSTART:20260908T090000
DTEND:20260908T170000
SUMMARY;charset=iso-8859-1:Connaissances de la branche 2 : Politique, régulation & économie
DESCRIPTION:For details, click here: https://www.strom.ch/fr/manifestation/connaissances-de-la-branche-2-politique-regulation-economie
LOCATION;charset=iso-8859-1:Avenue Louis-Ruchonnet 2, 1003 Lausanne;
END:VEVENT
END:VCALENDAR