BEGIN:VCALENDAR
VERSION:2.0
BEGIN:VEVENT
URL:https://www.strom.ch/de/veranstaltung/finanzielle-fuehrung-und-regulierung
DTSTART:20261123T090000
DTEND:20261124T170000
SUMMARY;charset=iso-8859-1:Finanzielle Führung und Regulierung
DESCRIPTION:For details, click here: https://www.strom.ch/de/veranstaltung/finanzielle-fuehrung-und-regulierung
LOCATION;charset=iso-8859-1:Hintere Bahnhofstrasse 10, 5000 Aarau ;
END:VEVENT
END:VCALENDAR