BEGIN:VCALENDAR
VERSION:2.0
BEGIN:VEVENT
URL:https://www.strom.ch/de/veranstaltung/megatrends-der-energiewirtschaft-0
DTSTART:20270125T090000
DTEND:20270126T170000
SUMMARY;charset=iso-8859-1:Megatrends der Energiewirtschaft
DESCRIPTION:For details, click here: https://www.strom.ch/de/veranstaltung/megatrends-der-energiewirtschaft-0
LOCATION;charset=iso-8859-1:Bodanstrasse 6, 9000 St. Gallen;
END:VEVENT
END:VCALENDAR