BEGIN:VCALENDAR
VERSION:2.0
BEGIN:VEVENT
URL:https://www.strom.ch/de/veranstaltung/grundlagen-energiewirtschaft-und-beschaffungsstrategien
DTSTART:20261104T090000
DTEND:20261105T170000
SUMMARY;charset=iso-8859-1:Grundlagen Energiewirtschaft und Beschaffungsstrategien
DESCRIPTION:For details, click here: https://www.strom.ch/de/veranstaltung/grundlagen-energiewirtschaft-und-beschaffungsstrategien
LOCATION;charset=iso-8859-1:Hintere Bahnhofstrasse 10, 5000 Aarau ;
END:VEVENT
END:VCALENDAR