BEGIN:VCALENDAR
VERSION:2.0
BEGIN:VEVENT
URL:https://www.strom.ch/de/veranstaltung/zertifikatslehrgang-betriebsmanagement-von-energieversorgungsunternehmen
DTSTART:20261019T090000
DTEND:20270126T170000
SUMMARY;charset=iso-8859-1:Zertifikatslehrgang Betriebsmanagement von Energieversorgungsunternehmen
DESCRIPTION:For details, click here: https://www.strom.ch/de/veranstaltung/zertifikatslehrgang-betriebsmanagement-von-energieversorgungsunternehmen
LOCATION;charset=iso-8859-1:Hintere Bahnhofstrasse 10, 5000 Aarau ;
END:VEVENT
END:VCALENDAR