BEGIN:VCALENDAR
VERSION:2.0
BEGIN:VEVENT
URL:https://www.strom.ch/de/veranstaltung/marktprozesse-verstehen-mittels-planspiel-0
DTSTART:20261020T090000
DTEND:20261020T170000
SUMMARY;charset=iso-8859-1:Marktprozesse verstehen mittels Planspiel
DESCRIPTION:For details, click here: https://www.strom.ch/de/veranstaltung/marktprozesse-verstehen-mittels-planspiel-0
LOCATION;charset=iso-8859-1:Hintere Bahnhofstrasse 10, 5000 Aarau ;
END:VEVENT
END:VCALENDAR