BEGIN:VCALENDAR
VERSION:2.0
BEGIN:VEVENT
URL:https://www.strom.ch/de/veranstaltung/vertiefung-fuer-sibe-modul-elektro-0
DTSTART:20260917T090000
DTEND:20260917T170000
SUMMARY;charset=iso-8859-1:Vertiefung für SiBe: Modul Elektro
DESCRIPTION:For details, click here: https://www.strom.ch/de/veranstaltung/vertiefung-fuer-sibe-modul-elektro-0
LOCATION;charset=iso-8859-1:Meiersboden 3, 7000 Chur ;
END:VEVENT
END:VCALENDAR