BEGIN:VCALENDAR
VERSION:2.0
BEGIN:VEVENT
URL:https://www.strom.ch/de/veranstaltung/seminar-sicherheitsbeauftragte-sibe-2026
DTSTART:20260611T090000
DTEND:20260612T090000
SUMMARY;charset=iso-8859-1:Seminar Sicherheitsbeauftragte (SiBe) 2026
DESCRIPTION:For details, click here: https://www.strom.ch/de/veranstaltung/seminar-sicherheitsbeauftragte-sibe-2026
LOCATION;charset=iso-8859-1:Postfach 487 , 6210 Sursee;
END:VEVENT
END:VCALENDAR