BEGIN:VCALENDAR
VERSION:2.0
BEGIN:VEVENT
URL:https://www.strom.ch/de/veranstaltung/itot-security-gemaess-ikt-minimalstandard-fuer-fuehrungskraefte-auf-basis-des-neuen-leitfadens
DTSTART:20260827T090000
DTEND:20260923T170000
SUMMARY;charset=iso-8859-1:IT/OT-Security gemäss IKT-Minimalstandard für Führungskräfte (Auf Basis des neuen Leitfadens)
DESCRIPTION:For details, click here: https://www.strom.ch/de/veranstaltung/itot-security-gemaess-ikt-minimalstandard-fuer-fuehrungskraefte-auf-basis-des-neuen-leitfadens
LOCATION;charset=iso-8859-1:Hintere Bahnhofstrasse 10, 5000 Aarau ;
END:VEVENT
END:VCALENDAR