BEGIN:VCALENDAR
VERSION:2.0
BEGIN:VEVENT
URL:https://www.strom.ch/de/veranstaltung/zukunftsperspektiven-58plus
DTSTART:20261208T090000
DTEND:20261209T140000
SUMMARY;charset=iso-8859-1:Zukunftsperspektiven 58plus
DESCRIPTION:For details, click here: https://www.strom.ch/de/veranstaltung/zukunftsperspektiven-58plus
LOCATION;charset=iso-8859-1:Sigriswilstrasse 117, 3655 Sigriswil;
END:VEVENT
END:VCALENDAR