BEGIN:VCALENDAR
VERSION:2.0
BEGIN:VEVENT
URL:https://www.strom.ch/de/veranstaltung/professioneller-umgang-am-telefon
DTSTART:20260602T090000
DTEND:20260602T170000
SUMMARY;charset=iso-8859-1:Professioneller Umgang am Telefon
DESCRIPTION:For details, click here: https://www.strom.ch/de/veranstaltung/professioneller-umgang-am-telefon
LOCATION;charset=iso-8859-1:Hintere Bahnhofstrasse 10, 5000 Aarau ;
END:VEVENT
END:VCALENDAR