BEGIN:VCALENDAR
VERSION:2.0
BEGIN:VEVENT
URL:https://www.strom.ch/de/veranstaltung/projektierung-und-plangenehmigung-von-leitungen-und-trafostationen
DTSTART:20261111T090000
DTEND:20261111T170000
SUMMARY;charset=iso-8859-1:Projektierung und Plangenehmigung von Leitungen und Trafostationen
DESCRIPTION:For details, click here: https://www.strom.ch/de/veranstaltung/projektierung-und-plangenehmigung-von-leitungen-und-trafostationen
LOCATION;charset=iso-8859-1:Schlossplatz 9, 5000 Aarau;
END:VEVENT
END:VCALENDAR