BEGIN:VCALENDAR
VERSION:2.0
BEGIN:VEVENT
URL:https://www.strom.ch/de/veranstaltung/fachtagung-netzwirtschaft-2026
DTSTART:20261110T090000
DTEND:20261110T170000
SUMMARY;charset=iso-8859-1:Fachtagung Netzwirtschaft 2026
DESCRIPTION:For details, click here: https://www.strom.ch/de/veranstaltung/fachtagung-netzwirtschaft-2026
LOCATION;charset=iso-8859-1:Schlossplatz 9, 5000 Aarau;
END:VEVENT
END:VCALENDAR