BEGIN:VCALENDAR
VERSION:2.0
BEGIN:VEVENT
URL:https://www.strom.ch/de/veranstaltung/vr-tagung-2026
DTSTART:20260610T090000
DTEND:20260610T173000
SUMMARY;charset=iso-8859-1:VR-Tagung 2026
DESCRIPTION:For details, click here: https://www.strom.ch/de/veranstaltung/vr-tagung-2026
LOCATION;charset=iso-8859-1:Limmatquai 54, 8001 Zürich;
END:VEVENT
END:VCALENDAR