BEGIN:VCALENDAR
VERSION:2.0
BEGIN:VEVENT
URL:https://www.strom.ch/de/veranstaltung/stromkennzeichnung-und-pronovo-hkn-system-vertiefungskurs-0
DTSTART:20260512T090000
DTEND:20260512T170000
SUMMARY;charset=iso-8859-1:Stromkennzeichnung und Pronovo HKN-System - Vertiefungskurs
DESCRIPTION:For details, click here: https://www.strom.ch/de/veranstaltung/stromkennzeichnung-und-pronovo-hkn-system-vertiefungskurs-0
LOCATION;charset=iso-8859-1:Hintere Bahnhofstrasse 10, 5000 Aarau ;
END:VEVENT
END:VCALENDAR