BEGIN:VCALENDAR
VERSION:2.0
BEGIN:VEVENT
URL:https://www.strom.ch/de/veranstaltung/betriebsleitertagung-2026
DTSTART:20260910T130000
DTEND:20260911T153000
SUMMARY;charset=iso-8859-1:Betriebsleitertagung 2026
DESCRIPTION:For details, click here: https://www.strom.ch/de/veranstaltung/betriebsleitertagung-2026
LOCATION;charset=iso-8859-1:Waldstätterhofquai 6, 6440 Brunnen;
END:VEVENT
END:VCALENDAR