BEGIN:VCALENDAR
VERSION:2.0
BEGIN:VEVENT
URL:https://www.strom.ch/de/veranstaltung/zertifikatslehrgang-leitender-netzmonteurin-west-2025-26
DTSTART:20251103T083000
DTEND:20260430T163000
SUMMARY;charset=iso-8859-1:Zertifikatslehrgang Leitende:r Netzmonteur:in WEST 2025-26
DESCRIPTION:For details, click here: https://www.strom.ch/de/veranstaltung/zertifikatslehrgang-leitender-netzmonteurin-west-2025-26
LOCATION;charset=iso-8859-1:Römerstrasse 34, 3283 Kallnach;
END:VEVENT
END:VCALENDAR